BEGIN:VCALENDAR
METHOD:PUBLISH
X-WR-TIMEZONE:America/Los_Angeles
PRODID:-//Hold My Ticket.//HMT Web App//EN
CALSCALE:GREGORIAN
METHOD:PUBLISH
X-WR-CALNAME:STAGES
X-WR-CALDESC:Upcoming events at STAGES
BEGIN:VTIMEZONE
TZID:America/Los_Angeles 
END:VTIMEZONE
BEGIN:VEVENT
SEQUENCE:2
TRANSP:OPAQUE
UID:10d2781203dfda90654906b36f5e76d0
DTSTART:20211211T180000
DTSTAMP:20211211T140125Z
SUMMARY:THE IRON MAIDENS 
DESCRIPTION:
CREATED:20211211T140125Z
URL;VALUE=URI:http://holdmyticket.com/event/383447 

DTEND:20211212T013000
END:VEVENT
END:VCALENDAR