BEGIN:VCALENDAR
METHOD:PUBLISH
X-WR-TIMEZONE:America/Denver
PRODID:-//Hold My Ticket.//HMT Web App//EN
CALSCALE:GREGORIAN
METHOD:PUBLISH
X-WR-CALNAME:The Oriental Theater
X-WR-CALDESC:Upcoming events at The Oriental Theater
BEGIN:VTIMEZONE
TZID:America/Denver 
END:VTIMEZONE
BEGIN:VEVENT
SEQUENCE:2
TRANSP:OPAQUE
UID:b21c44606ecb4069915f86d7a8f1e047
DTSTART:20220121T200000
DTSTAMP:20220121T160144Z
SUMMARY:TSOL
DESCRIPTION:
CREATED:20220121T160144Z
URL;VALUE=URI:http://holdmyticket.com/event/383476 

DTEND:20220121T230000
END:VEVENT
END:VCALENDAR