BEGIN:VCALENDAR
METHOD:PUBLISH
X-WR-TIMEZONE:America/Denver
PRODID:-//Hold My Ticket.//HMT Web App//EN
CALSCALE:GREGORIAN
METHOD:PUBLISH
X-WR-CALNAME:Launchpad
X-WR-CALDESC:Upcoming events at Launchpad
BEGIN:VTIMEZONE
TZID:America/Denver 
END:VTIMEZONE
BEGIN:VEVENT
SEQUENCE:2
TRANSP:OPAQUE
UID:76fced116cae20b8b53245176d0c0cbb
DTSTART:20221021T183000
DTSTAMP:20221021T140119Z
SUMMARY:Night of the Living Cover Bands 2022 - Night 5
DESCRIPTION:
CREATED:20221021T140119Z
URL;VALUE=URI:http://holdmyticket.com/event/383533 

DTEND:20221022T020000
END:VEVENT
END:VCALENDAR