BEGIN:VCALENDAR
METHOD:PUBLISH
X-WR-TIMEZONE:America/Denver
PRODID:-//Hold My Ticket.//HMT Web App//EN
CALSCALE:GREGORIAN
METHOD:PUBLISH
X-WR-CALNAME:Launchpad
X-WR-CALDESC:Upcoming events at Launchpad
BEGIN:VTIMEZONE
TZID:America/Denver 
END:VTIMEZONE
BEGIN:VEVENT
SEQUENCE:2
TRANSP:OPAQUE
UID:0e6372b8b4e10523e05ad766f8350e30
DTSTART:20221022T190000
DTSTAMP:20221022T140142Z
SUMMARY:Night of the Living Cover Bands 2022 - Night 6
DESCRIPTION:
CREATED:20221022T140142Z
URL;VALUE=URI:http://holdmyticket.com/event/383534 

DTEND:20221023T020000
END:VEVENT
END:VCALENDAR