BEGIN:VCALENDAR
METHOD:PUBLISH
X-WR-TIMEZONE:America/Denver
PRODID:-//Hold My Ticket.//HMT Web App//EN
CALSCALE:GREGORIAN
METHOD:PUBLISH
X-WR-CALNAME:Launchpad
X-WR-CALDESC:Upcoming events at Launchpad
BEGIN:VTIMEZONE
TZID:America/Denver 
END:VTIMEZONE
BEGIN:VEVENT
SEQUENCE:2
TRANSP:OPAQUE
UID:dd811d83c0febe3472e3782c589266f9
DTSTART:20221030T183000
DTSTAMP:20221030T140102Z
SUMMARY:Night of the Living Cover Bands 2022 - Night 8
DESCRIPTION:
CREATED:20221030T140102Z
URL;VALUE=URI:http://holdmyticket.com/event/383537 

DTEND:20221031T020000
END:VEVENT
END:VCALENDAR