BEGIN:VCALENDAR
METHOD:PUBLISH
X-WR-TIMEZONE:America/Denver
PRODID:-//Hold My Ticket.//HMT Web App//EN
CALSCALE:GREGORIAN
METHOD:PUBLISH
X-WR-CALNAME:Moonlight Lounge
X-WR-CALDESC:Upcoming events at Moonlight Lounge
BEGIN:VTIMEZONE
TZID:America/Denver 
END:VTIMEZONE
BEGIN:VEVENT
SEQUENCE:2
TRANSP:OPAQUE
UID:c5f854ef34421326fbd13602e18b7037
DTSTART:20211224T130000
DTSTAMP:20211224T090155Z
SUMMARY:CHRISTMAS EVE - CLOSED
DESCRIPTION:
CREATED:20211224T090155Z
URL;VALUE=URI:http://holdmyticket.com/event/383641 

DTEND:20211224T234500
END:VEVENT
END:VCALENDAR