BEGIN:VCALENDAR
METHOD:PUBLISH
X-WR-TIMEZONE:America/Denver
PRODID:-//Hold My Ticket.//HMT Web App//EN
CALSCALE:GREGORIAN
METHOD:PUBLISH
X-WR-CALNAME:Moonlight Lounge
X-WR-CALDESC:Upcoming events at Moonlight Lounge
BEGIN:VTIMEZONE
TZID:America/Denver 
END:VTIMEZONE
BEGIN:VEVENT
SEQUENCE:2
TRANSP:OPAQUE
UID:68f306391d7da0685dc93c591e1158c4
DTSTART:20211226T134200
DTSTAMP:20211226T100133Z
SUMMARY:Boxing Day - Closed
DESCRIPTION:
CREATED:20211226T100133Z
URL;VALUE=URI:http://holdmyticket.com/event/383645 

DTEND:20211226T231500
END:VEVENT
END:VCALENDAR