BEGIN:VCALENDAR
METHOD:PUBLISH
X-WR-TIMEZONE:America/Denver
PRODID:-//Hold My Ticket.//HMT Web App//EN
CALSCALE:GREGORIAN
METHOD:PUBLISH
X-WR-CALNAME:Buffalo Rose
X-WR-CALDESC:Upcoming events at Buffalo Rose
BEGIN:VTIMEZONE
TZID:America/Denver 
END:VTIMEZONE
BEGIN:VEVENT
SEQUENCE:2
TRANSP:OPAQUE
UID:0608927664232e25ff06cd9a919421c7
DTSTART:20220104T190000
DTSTAMP:20220104T150141Z
SUMMARY:Texas Road Show
DESCRIPTION:
CREATED:20220104T150141Z
URL;VALUE=URI:http://holdmyticket.com/event/383660 

DTEND:20220104T220000
END:VEVENT
END:VCALENDAR