BEGIN:VCALENDAR
METHOD:PUBLISH
X-WR-TIMEZONE:America/Los_Angeles
PRODID:-//Hold My Ticket.//HMT Web App//EN
CALSCALE:GREGORIAN
METHOD:PUBLISH
X-WR-CALNAME:Winstons
X-WR-CALDESC:Upcoming events at Winstons
BEGIN:VTIMEZONE
TZID:America/Los_Angeles 
END:VTIMEZONE
BEGIN:VEVENT
SEQUENCE:2
TRANSP:OPAQUE
UID:36424aaaa431683bc5edfa2ee6f71650
DTSTART:20211201T210000
DTSTAMP:20211201T214751Z
SUMMARY:The Skatalites
DESCRIPTION:
CREATED:20211201T214751Z
URL;VALUE=URI:http://holdmyticket.com/event/383788 

DTEND:20211202T000000
END:VEVENT
END:VCALENDAR