BEGIN:VCALENDAR
METHOD:PUBLISH
X-WR-TIMEZONE:America/Denver
PRODID:-//Hold My Ticket.//HMT Web App//EN
CALSCALE:GREGORIAN
METHOD:PUBLISH
X-WR-CALNAME:Sunshine Theater
X-WR-CALDESC:Upcoming events at Sunshine Theater
BEGIN:VTIMEZONE
TZID:America/Denver 
END:VTIMEZONE
BEGIN:VEVENT
SEQUENCE:2
TRANSP:OPAQUE
UID:6a74845eed66af457a1c1b46feeaa958
DTSTART:20211203T190000
DTSTAMP:20211203T150104Z
SUMMARY:SAINt JHN
DESCRIPTION:
CREATED:20211203T150104Z
URL;VALUE=URI:http://holdmyticket.com/event/383861 

DTEND:20211203T230000
END:VEVENT
END:VCALENDAR