BEGIN:VCALENDAR
METHOD:PUBLISH
X-WR-TIMEZONE:America/New_York
PRODID:-//Hold My Ticket.//HMT Web App//EN
CALSCALE:GREGORIAN
METHOD:PUBLISH
X-WR-CALNAME:Terra Fermata
X-WR-CALDESC:Upcoming events at Terra Fermata
BEGIN:VTIMEZONE
TZID:America/New_York 
END:VTIMEZONE
BEGIN:VEVENT
SEQUENCE:2
TRANSP:OPAQUE
UID:c2320300a3fddab50a865296d30aa8a3
DTSTART:20211103T190000
DTSTAMP:20211103T140127Z
SUMMARY:THE NOUVEAUX HONKIES 4-PIECE BAND
DESCRIPTION:Wednesdays at Terra are HONKIE DAYS! Doors open at 6pm. Happy Hour with $5 crafts from 6-7. Showtime 7-10. $5 Admission.
Tim &amp; Rebecca O'Donnell are now joined, exclusively at Terra, by Banjo Extraordinaire Nigel Lee Ledford, and Dobro slide star Kevin Maul for 3 hours of FOLK, BLUES, BLUEGRASS &amp; COUNTRY covers and originals. You don't want to miss our local favorites from right down in Port Salerno.
CREATED:20211103T140127Z
URL;VALUE=URI:http://holdmyticket.com/event/383878 

DTEND:20211103T220000
END:VEVENT
END:VCALENDAR