BEGIN:VCALENDAR
METHOD:PUBLISH
X-WR-TIMEZONE:America/Denver
PRODID:-//Hold My Ticket.//HMT Web App//EN
CALSCALE:GREGORIAN
METHOD:PUBLISH
X-WR-CALNAME:The Oriental Theater
X-WR-CALDESC:Upcoming events at The Oriental Theater
BEGIN:VTIMEZONE
TZID:America/Denver 
END:VTIMEZONE
BEGIN:VEVENT
SEQUENCE:2
TRANSP:OPAQUE
UID:30efbc7fc5a1a278ec1e9ea9499b3516
DTSTART:20211218T193000
DTSTAMP:20211218T160148Z
SUMMARY:Knot Rock &amp; Stone Beat Invasion 
DESCRIPTION:
CREATED:20211218T160148Z
URL;VALUE=URI:http://holdmyticket.com/event/384243 

DTEND:20211218T224500
END:VEVENT
END:VCALENDAR