BEGIN:VCALENDAR
METHOD:PUBLISH
X-WR-TIMEZONE:America/Denver
PRODID:-//Hold My Ticket.//HMT Web App//EN
CALSCALE:GREGORIAN
METHOD:PUBLISH
X-WR-CALNAME:The Oriental Theater
X-WR-CALDESC:Upcoming events at The Oriental Theater
BEGIN:VTIMEZONE
TZID:America/Denver 
END:VTIMEZONE
BEGIN:VEVENT
SEQUENCE:2
TRANSP:OPAQUE
UID:7c9bccc8948e3325cc694b918c65099e
DTSTART:20220513T184500
DTSTAMP:20220513T140136Z
SUMMARY:Fozzy
DESCRIPTION:
CREATED:20220513T140136Z
URL;VALUE=URI:http://holdmyticket.com/event/384307 

DTEND:20220513T230000
END:VEVENT
END:VCALENDAR