BEGIN:VCALENDAR
METHOD:PUBLISH
X-WR-TIMEZONE:America/Denver
PRODID:-//Hold My Ticket.//HMT Web App//EN
CALSCALE:GREGORIAN
METHOD:PUBLISH
X-WR-CALNAME:Moonlight Lounge
X-WR-CALDESC:Upcoming events at Moonlight Lounge
BEGIN:VTIMEZONE
TZID:America/Denver 
END:VTIMEZONE
BEGIN:VEVENT
SEQUENCE:2
TRANSP:OPAQUE
UID:a3fcf804b013278ba274bd65e8bda9bc
DTSTART:20211124T210000
DTSTAMP:20211124T180102Z
SUMMARY:Thanksgiving Eve Jam Jam
DESCRIPTION:
CREATED:20211124T180102Z
URL;VALUE=URI:http://holdmyticket.com/event/384441 

DTEND:20211125T000000
END:VEVENT
END:VCALENDAR