BEGIN:VCALENDAR
METHOD:PUBLISH
X-WR-TIMEZONE:America/Los_Angeles
PRODID:-//Hold My Ticket.//HMT Web App//EN
CALSCALE:GREGORIAN
METHOD:PUBLISH
X-WR-CALNAME:Humboldt Brews
X-WR-CALDESC:Upcoming events at Humboldt Brews
BEGIN:VTIMEZONE
TZID:America/Los_Angeles 
END:VTIMEZONE
BEGIN:VEVENT
SEQUENCE:2
TRANSP:OPAQUE
UID:4a55d33c85ebdd58bdd8674313740bee
DTSTART:20211211T210000
DTSTAMP:20211211T170126Z
SUMMARY:Tropical Cumbia Salsa Dance Party with Tropiqueno and Makenu
DESCRIPTION:Tropiqueño is Humboldt County's old-school salsa revival specialists. The band is a fresh collaboration of local artists brought together through deep love for the African diaspora's heritage in the Caribbean and Latin America. This full 16 piece band has all the energy and vibe to keep crowds on the floor all night long. Come join the party!
Makenu is Humboldts premire Cumbia band. After woodshopping their sound in the fertile hills of Humboldt county with  players drawn from the far corners of the globe Makenu has in 2021 found their sound and hit the ground running to rave reviews and leaving crowds wanting more. Come get your share!
CREATED:20211211T170126Z
URL;VALUE=URI:http://holdmyticket.com/event/384519 

DTEND:20211212T010000
END:VEVENT
END:VCALENDAR