BEGIN:VCALENDAR
METHOD:PUBLISH
X-WR-TIMEZONE:America/Denver
PRODID:-//Hold My Ticket.//HMT Web App//EN
CALSCALE:GREGORIAN
METHOD:PUBLISH
X-WR-CALNAME:Moonlight Lounge
X-WR-CALDESC:Upcoming events at Moonlight Lounge
BEGIN:VTIMEZONE
TZID:America/Denver 
END:VTIMEZONE
BEGIN:VEVENT
SEQUENCE:2
TRANSP:OPAQUE
UID:b27b6491116657285ccad44e1eb89c9e
DTSTART:20220128T230000
DTSTAMP:20220128T190102Z
SUMMARY:Slums of Harvard - Bad Suns After Party
DESCRIPTION:
CREATED:20220128T190102Z
URL;VALUE=URI:http://holdmyticket.com/event/384540 

DTEND:20220129T020000
END:VEVENT
END:VCALENDAR