BEGIN:VCALENDAR
METHOD:PUBLISH
X-WR-TIMEZONE:America/Denver
PRODID:-//Hold My Ticket.//HMT Web App//EN
CALSCALE:GREGORIAN
METHOD:PUBLISH
X-WR-CALNAME:The Oriental Theater
X-WR-CALDESC:Upcoming events at The Oriental Theater
BEGIN:VTIMEZONE
TZID:America/Denver 
END:VTIMEZONE
BEGIN:VEVENT
SEQUENCE:2
TRANSP:OPAQUE
UID:9d4e245b62fa82a68610c753436e694b
DTSTART:20211212T140000
DTSTAMP:20211212T100125Z
SUMMARY:A Benefit for Jada and Jazz Rouse
DESCRIPTION:
CREATED:20211212T100125Z
URL;VALUE=URI:http://holdmyticket.com/event/384566 

DTEND:20211212T170000
END:VEVENT
END:VCALENDAR