BEGIN:VCALENDAR
METHOD:PUBLISH
X-WR-TIMEZONE:America/Denver
PRODID:-//Hold My Ticket.//HMT Web App//EN
CALSCALE:GREGORIAN
METHOD:PUBLISH
X-WR-CALNAME:St Francis Auditorium at the New Mexico Museum of Art
X-WR-CALDESC:Upcoming events at St Francis Auditorium at the New Mexico Museum of Art
BEGIN:VTIMEZONE
TZID:America/Denver 
END:VTIMEZONE
BEGIN:VEVENT
SEQUENCE:2
TRANSP:OPAQUE
UID:4be368ae2248f62cdccca7d242de346e
DTSTART:20220320T193000
DTSTAMP:20220320T150144Z
SUMMARY:Eliza Gilkyson  
DESCRIPTION:Renowned songwriter Eliza Gilkyson has announced the follow-up to her critically acclaimed political masterpiece, 2020, which topped the folk radio charts and won Eliza the "Best Song of the Year" award from the Folk International Alliance. Her new album, Songs From the River Wind, is what she calls her love letter to the Old West. It's composed of snapshots of the people and places, lives and loves lost and found over her years of wandering the West as a musical minstrel, searching for her heart's home. The album will be out January 14, 2022 on Howlin' Dog Records.
CREATED:20220320T150144Z
URL;VALUE=URI:http://holdmyticket.com/event/385123 

DTEND:20220320T211500
END:VEVENT
END:VCALENDAR