BEGIN:VCALENDAR
METHOD:PUBLISH
X-WR-TIMEZONE:America/Denver
PRODID:-//Hold My Ticket.//HMT Web App//EN
CALSCALE:GREGORIAN
METHOD:PUBLISH
X-WR-CALNAME:The Lensic
X-WR-CALDESC:Upcoming events at The Lensic
BEGIN:VTIMEZONE
TZID:America/Denver 
END:VTIMEZONE
BEGIN:VEVENT
SEQUENCE:2
TRANSP:OPAQUE
UID:36021ea02334bc9266344f66dcc546c2
DTSTART:20220414T193000
DTSTAMP:20220414T150122Z
SUMMARY:Sarah Jarosz
DESCRIPTION:With her captivating voice and richly detailed songwriting, Sarah Jarosz has emerged as one of the most compelling musicians of her generation. A four-time Grammy Award-winner at the age of 30, the Texas native started singing as a young girl and became an accomplished multi-instrumentalist by her early teens. After releasing her full-length debut "Song Up in Her Head" at 18-years-old, she went on to deliver such critically lauded albums as "Follow Me Down," "Build Me Up From Bones," and 2016's "Undercurrent," in addition to joining forces with Sara Watkins and Aoife O'Donovan to form the acclaimed Grammy winning folk trio I'm With Her.
CREATED:20220414T150122Z
URL;VALUE=URI:http://holdmyticket.com/event/385643 

DTEND:20220414T220000
END:VEVENT
END:VCALENDAR