BEGIN:VCALENDAR
METHOD:PUBLISH
X-WR-TIMEZONE:America/Denver
PRODID:-//Hold My Ticket.//HMT Web App//EN
CALSCALE:GREGORIAN
METHOD:PUBLISH
X-WR-CALNAME:Chatter
X-WR-CALDESC:Upcoming events at Chatter
BEGIN:VTIMEZONE
TZID:America/Denver 
END:VTIMEZONE
BEGIN:VEVENT
SEQUENCE:2
TRANSP:OPAQUE
UID:04be61722ea49747d16804410f510bf4
DTSTART:20220325T193000
DTSTAMP:20220325T150155Z
SUMMARY:Loudon Wainwright III
DESCRIPTION:For the past fifty-two years, Loudon Wainwright III has carved out a distinguished career as one of our most original singer-songwriters, a six-string diarist with material that is by turns, tongue-in-cheek, tender, sarcastic, heart-wrenching, and always deeply personal. Along the way, he's released over twenty albums, won a Grammy, acted in film and TV, and had his songs recorded by artists including Johnny Cash, Mose Allison, Bonnie Raitt, and his own son, Rufus Wainwright.
CREATED:20220325T150155Z
URL;VALUE=URI:http://holdmyticket.com/event/385654 

DTEND:20220325T220000
END:VEVENT
END:VCALENDAR