BEGIN:VCALENDAR
METHOD:PUBLISH
X-WR-TIMEZONE:America/Denver
PRODID:-//Hold My Ticket.//HMT Web App//EN
CALSCALE:GREGORIAN
METHOD:PUBLISH
X-WR-CALNAME:Sunshine Theater
X-WR-CALDESC:Upcoming events at Sunshine Theater
BEGIN:VTIMEZONE
TZID:America/Denver 
END:VTIMEZONE
BEGIN:VEVENT
SEQUENCE:2
TRANSP:OPAQUE
UID:478a8b447e7afedb6004310ee43ba8a1
DTSTART:20221031T200000
DTSTAMP:20221031T210904Z
SUMMARY:W.A.S.P. * Armored Saint
DESCRIPTION:* W.A.S.P. * Armored Saint * 

40 Years Live World Tour 

Monday, October 31, 2022
Doors 7pm | Show 8pm 
Sunshine Theater
ABQ NM
all ages 
Advance tickets - $35 + service charge
CREATED:20221031T210904Z
URL;VALUE=URI:http://holdmyticket.com/event/386380 

DTEND:20221031T230000
END:VEVENT
END:VCALENDAR