BEGIN:VCALENDAR
METHOD:PUBLISH
X-WR-TIMEZONE:America/Denver
PRODID:-//Hold My Ticket.//HMT Web App//EN
CALSCALE:GREGORIAN
METHOD:PUBLISH
X-WR-CALNAME:Chatter
X-WR-CALDESC:Upcoming events at Chatter
BEGIN:VTIMEZONE
TZID:America/Denver 
END:VTIMEZONE
BEGIN:VEVENT
SEQUENCE:2
TRANSP:OPAQUE
UID:b9e31636faf7ae0648f8360cf414efca
DTSTART:20220330T193000
DTSTAMP:20220330T150131Z
SUMMARY:Kaki King
DESCRIPTION:Composer and musician Kaki King is considered one of the world's greatest living guitarists, known both for her technical mastery and for her constant quest to push the boundaries of the instrument. Hailed by Rolling Stone as "a genre unto herself," Kaki has released 9 albums and toured extensively, presenting in such prestigious arts centers as the Kennedy Center, MoMA, LACMA, The Met and Smithsonian Design Museum. She has created music for numerous film and TV soundtracks, including August Rush and Into the Wild, which received a Golden Globe nomination for Best Original Score. 
CREATED:20220330T150131Z
URL;VALUE=URI:http://holdmyticket.com/event/387024 

DTEND:20220330T210000
END:VEVENT
END:VCALENDAR