BEGIN:VCALENDAR
METHOD:PUBLISH
X-WR-TIMEZONE:America/Denver
PRODID:-//Hold My Ticket.//HMT Web App//EN
CALSCALE:GREGORIAN
METHOD:PUBLISH
X-WR-CALNAME:Tumbleroot Brewery & Distillery
X-WR-CALDESC:Upcoming events at Tumbleroot Brewery & Distillery
BEGIN:VTIMEZONE
TZID:America/Denver 
END:VTIMEZONE
BEGIN:VEVENT
SEQUENCE:2
TRANSP:OPAQUE
UID:933f0934067045cf8e1d400d9dff28e1
DTSTART:20220424T193000
DTSTAMP:20220424T150122Z
SUMMARY:AJ Lee &amp; Blue Summit 
DESCRIPTION:AJ Lee and Blue Summit made their first appearance in Santa Cruz in 2015. Led by singer, songwriter, and mandolinist, AJ Lee, the bluegrass band has performed all over the world, but found home in California's Bay Area. In 2019, they released their debut album, Like I Used To. Their second full length project, I'll Come Back, came out August 2021 -  with a national tour in support of the record ongoing. 
CREATED:20220424T150122Z
URL;VALUE=URI:http://holdmyticket.com/event/387057 

DTEND:20220424T220000
END:VEVENT
END:VCALENDAR