BEGIN:VCALENDAR
METHOD:PUBLISH
X-WR-TIMEZONE:America/Denver
PRODID:-//Hold My Ticket.//HMT Web App//EN
CALSCALE:GREGORIAN
METHOD:PUBLISH
X-WR-CALNAME:The Oriental Theater
X-WR-CALDESC:Upcoming events at The Oriental Theater
BEGIN:VTIMEZONE
TZID:America/Denver 
END:VTIMEZONE
BEGIN:VEVENT
SEQUENCE:2
TRANSP:OPAQUE
UID:739dfde9e9e8e202f7c616c10afdbae4
DTSTART:20220123T160000
DTSTAMP:20220123T120139Z
SUMMARY:Souls Unite
DESCRIPTION:
CREATED:20220123T120139Z
URL;VALUE=URI:http://holdmyticket.com/event/387341 

DTEND:20220123T220000
END:VEVENT
END:VCALENDAR