BEGIN:VCALENDAR
METHOD:PUBLISH
X-WR-TIMEZONE:America/Denver
PRODID:-//Hold My Ticket.//HMT Web App//EN
CALSCALE:GREGORIAN
METHOD:PUBLISH
X-WR-CALNAME:The Lensic
X-WR-CALDESC:Upcoming events at The Lensic
BEGIN:VTIMEZONE
TZID:America/Denver 
END:VTIMEZONE
BEGIN:VEVENT
SEQUENCE:2
TRANSP:OPAQUE
UID:7e9b6abb370ed115b66f93d635b7829e
DTSTART:20220607T193000
DTSTAMP:20220607T150128Z
SUMMARY:Amos Lee
DESCRIPTION:With one foot in the real world and the other in a charmed dimension of his own making, Amos Lee creates the rare kind of music that's emotionally raw yet touched with a certain magical quality. On his eighth album Dreamland, the Philadelphia-born singer/songwriter intimately documents his real-world struggles (alienation, anxiety, loneliness, despair), an outpouring born from deliberate and often painful self-examination. "For most of my life I've walked into rooms thinking, 'I don't belong here,'" says Lee. "I've come to the realization that I'm too comfortable as an isolated person, and I want to reach out more."
CREATED:20220607T150128Z
URL;VALUE=URI:http://holdmyticket.com/event/387693 

DTEND:20220607T220000
END:VEVENT
END:VCALENDAR