BEGIN:VCALENDAR
METHOD:PUBLISH
X-WR-TIMEZONE:America/Denver
PRODID:-//Hold My Ticket.//HMT Web App//EN
CALSCALE:GREGORIAN
METHOD:PUBLISH
X-WR-CALNAME:The Oriental Theater
X-WR-CALDESC:Upcoming events at The Oriental Theater
BEGIN:VTIMEZONE
TZID:America/Denver 
END:VTIMEZONE
BEGIN:VEVENT
SEQUENCE:2
TRANSP:OPAQUE
UID:16d63545ea0409491ae238fdc0f75368
DTSTART:20221205T200000
DTSTAMP:20221205T160141Z
SUMMARY:W.A.S.P. 40th Anniversary Tour  *****SOLD OUT*****
DESCRIPTION:
CREATED:20221205T160141Z
URL;VALUE=URI:http://holdmyticket.com/event/387717 

DTEND:20221205T230000
END:VEVENT
END:VCALENDAR