BEGIN:VCALENDAR
METHOD:PUBLISH
X-WR-TIMEZONE:America/Denver
PRODID:-//Hold My Ticket.//HMT Web App//EN
CALSCALE:GREGORIAN
METHOD:PUBLISH
X-WR-CALNAME:The Oriental Theater
X-WR-CALDESC:Upcoming events at The Oriental Theater
BEGIN:VTIMEZONE
TZID:America/Denver 
END:VTIMEZONE
BEGIN:VEVENT
SEQUENCE:2
TRANSP:OPAQUE
UID:4e1a629d391636ed5677a4f1b038fc75
DTSTART:20220318T190000
DTSTAMP:20220318T140146Z
SUMMARY:Sevendust - Animosity Album Play + Hits
DESCRIPTION:
CREATED:20220318T140146Z
URL;VALUE=URI:http://holdmyticket.com/event/387718 

DTEND:20220318T230000
END:VEVENT
END:VCALENDAR