BEGIN:VCALENDAR
METHOD:PUBLISH
X-WR-TIMEZONE:America/Denver
PRODID:-//Hold My Ticket.//HMT Web App//EN
CALSCALE:GREGORIAN
METHOD:PUBLISH
X-WR-CALNAME:The Oriental Theater
X-WR-CALDESC:Upcoming events at The Oriental Theater
BEGIN:VTIMEZONE
TZID:America/Denver 
END:VTIMEZONE
BEGIN:VEVENT
SEQUENCE:2
TRANSP:OPAQUE
UID:9a7562207ab9c4c157598042694003e3
DTSTART:20220319T190000
DTSTAMP:20220319T140146Z
SUMMARY:Sevendust - Animosity Album Play + Hits
DESCRIPTION:
CREATED:20220319T140146Z
URL;VALUE=URI:http://holdmyticket.com/event/387719 

DTEND:20220319T230000
END:VEVENT
END:VCALENDAR