BEGIN:VCALENDAR
METHOD:PUBLISH
X-WR-TIMEZONE:America/Los_Angeles
PRODID:-//Hold My Ticket.//HMT Web App//EN
CALSCALE:GREGORIAN
METHOD:PUBLISH
X-WR-CALNAME:Hawthorne Lounge
X-WR-CALDESC:Upcoming events at Hawthorne Lounge
BEGIN:VTIMEZONE
TZID:America/Los_Angeles 
END:VTIMEZONE
BEGIN:VEVENT
SEQUENCE:2
TRANSP:OPAQUE
UID:82a80f2ea875a2260411052523dbdcc1
DTSTART:20220303T203000
DTSTAMP:20220303T170157Z
SUMMARY:ANDRES,
DESCRIPTION:21+ / $15 ADV - $17 DOS / 8PM DOORS
CREATED:20220303T170157Z
URL;VALUE=URI:http://holdmyticket.com/event/387776 

DTEND:20220303T233000
END:VEVENT
END:VCALENDAR