BEGIN:VCALENDAR
METHOD:PUBLISH
X-WR-TIMEZONE:America/New_York
PRODID:-//Hold My Ticket.//HMT Web App//EN
CALSCALE:GREGORIAN
METHOD:PUBLISH
X-WR-CALNAME:River Street Jazz Cafe
X-WR-CALDESC:Upcoming events at River Street Jazz Cafe
BEGIN:VTIMEZONE
TZID:America/New_York 
END:VTIMEZONE
BEGIN:VEVENT
SEQUENCE:2
TRANSP:OPAQUE
UID:df83b6b0ab0a840d2118f4bb187aa2ea
DTSTART:20220423T210000
DTSTAMP:20220423T160146Z
SUMMARY:THE LIZARDS (Phish Tribute) 
DESCRIPTION:
CREATED:20220423T160146Z
URL;VALUE=URI:http://holdmyticket.com/event/388039 

DTEND:20220424T010000
END:VEVENT
END:VCALENDAR