BEGIN:VCALENDAR
METHOD:PUBLISH
X-WR-TIMEZONE:America/Denver
PRODID:-//Hold My Ticket.//HMT Web App//EN
CALSCALE:GREGORIAN
METHOD:PUBLISH
X-WR-CALNAME:Tumbleroot Brewery & Distillery
X-WR-CALDESC:Upcoming events at Tumbleroot Brewery & Distillery
BEGIN:VTIMEZONE
TZID:America/Denver 
END:VTIMEZONE
BEGIN:VEVENT
SEQUENCE:2
TRANSP:OPAQUE
UID:7173028141183ab18448838564b9e518
DTSTART:20220517T193000
DTSTAMP:20220517T150131Z
SUMMARY:Mudhoney / Meat Puppets - SOLD OUT 
DESCRIPTION:Meat Puppets, one of the most compelling, original and enduring bands in rock history, and Mudhoney--the Seattle-based foursome whose muck-crusted version of rock, shot through with caustic wit and battened down by a ferocious low end--share the bill and will both be performing full sets.
CREATED:20220517T150131Z
URL;VALUE=URI:http://holdmyticket.com/event/388052 

DTEND:20220517T230000
END:VEVENT
END:VCALENDAR