BEGIN:VCALENDAR
METHOD:PUBLISH
X-WR-TIMEZONE:America/Denver
PRODID:-//Hold My Ticket.//HMT Web App//EN
CALSCALE:GREGORIAN
METHOD:PUBLISH
X-WR-CALNAME:The Gem
X-WR-CALDESC:Upcoming events at The Gem
BEGIN:VTIMEZONE
TZID:America/Denver 
END:VTIMEZONE
BEGIN:VEVENT
SEQUENCE:2
TRANSP:OPAQUE
UID:e34d283753ed2cd069a165da97ecf0e0
DTSTART:20220419T190000
DTSTAMP:20220419T140148Z
SUMMARY:Rehab
DESCRIPTION:Strong Survive and Extrinsic Proudly Present: Rehab Live at The Gem in Idaho Falls
All Ages 
Bar W/ ID
CREATED:20220419T140148Z
URL;VALUE=URI:http://holdmyticket.com/event/388525 

DTEND:20220419T234500
END:VEVENT
END:VCALENDAR