BEGIN:VCALENDAR
METHOD:PUBLISH
X-WR-TIMEZONE:America/Denver
PRODID:-//Hold My Ticket.//HMT Web App//EN
CALSCALE:GREGORIAN
METHOD:PUBLISH
X-WR-CALNAME:Sunshine Theater
X-WR-CALDESC:Upcoming events at Sunshine Theater
BEGIN:VTIMEZONE
TZID:America/Denver 
END:VTIMEZONE
BEGIN:VEVENT
SEQUENCE:2
TRANSP:OPAQUE
UID:827a7701887a5b27032d352eb16864ab
DTSTART:20220522T190000
DTSTAMP:20220522T203112Z
SUMMARY:MAX &amp; IGGOR CAVALERA RETURN: BENEATH ARISE
DESCRIPTION:* Max &amp; Iggor Cavalera * Destruction * Nervosa * Healing Magic * Sunlord *

The original founding members of influential RIAA Gold-Certified Brazilian heavy metal legend Sepultura, Max &amp; Iggor Cavalera will celebrate the legendary albums "Beneath the Remains" and "Arise" by performing a hybrid setlist exclusively with songs from both albums.

Sunday, May 22, 2022
Sunshine Theater
ABQ NM
all ages 
Advance tickets - $27 + service charge
CREATED:20220522T203112Z
URL;VALUE=URI:http://holdmyticket.com/event/389143 

DTEND:20220522T230000
END:VEVENT
END:VCALENDAR