BEGIN:VCALENDAR
METHOD:PUBLISH
X-WR-TIMEZONE:America/Denver
PRODID:-//Hold My Ticket.//HMT Web App//EN
CALSCALE:GREGORIAN
METHOD:PUBLISH
X-WR-CALNAME:The Oriental Theater
X-WR-CALDESC:Upcoming events at The Oriental Theater
BEGIN:VTIMEZONE
TZID:America/Denver 
END:VTIMEZONE
BEGIN:VEVENT
SEQUENCE:2
TRANSP:OPAQUE
UID:e071d9c50e7247799d1ee09fce559248
DTSTART:20220510T190000
DTSTAMP:20220510T140148Z
SUMMARY:Destruction
DESCRIPTION:
CREATED:20220510T140148Z
URL;VALUE=URI:http://holdmyticket.com/event/389306 

DTEND:20220510T230000
END:VEVENT
END:VCALENDAR