BEGIN:VCALENDAR
METHOD:PUBLISH
X-WR-TIMEZONE:America/Denver
PRODID:-//Hold My Ticket.//HMT Web App//EN
CALSCALE:GREGORIAN
METHOD:PUBLISH
X-WR-CALNAME:The Oriental Theater
X-WR-CALDESC:Upcoming events at The Oriental Theater
BEGIN:VTIMEZONE
TZID:America/Denver 
END:VTIMEZONE
BEGIN:VEVENT
SEQUENCE:2
TRANSP:OPAQUE
UID:55be6e86cc2a15242aa972caa0664ee9
DTSTART:20220515T193000
DTSTAMP:20220515T150148Z
SUMMARY:Eve 6: The Extreme Wealth Tour
DESCRIPTION:
CREATED:20220515T150148Z
URL;VALUE=URI:http://holdmyticket.com/event/389411 

DTEND:20220515T230000
END:VEVENT
END:VCALENDAR