BEGIN:VCALENDAR
METHOD:PUBLISH
X-WR-TIMEZONE:America/Chicago
PRODID:-//Hold My Ticket.//HMT Web App//EN
CALSCALE:GREGORIAN
METHOD:PUBLISH
X-WR-CALNAME:Luckenbach Texas
X-WR-CALDESC:Upcoming events at Luckenbach Texas
BEGIN:VTIMEZONE
TZID:America/Chicago 
END:VTIMEZONE
BEGIN:VEVENT
SEQUENCE:2
TRANSP:OPAQUE
UID:4a3a2d80526c7672590956d4d0cf8317
DTSTART:20230422T110000
DTSTAMP:20230422T091311Z
SUMMARY:2nd Annual Luckenbach Bluegrass Festival 
DESCRIPTION:
CREATED:20230422T091311Z
URL;VALUE=URI:http://holdmyticket.com/event/389446 

DTEND:20230422T183000
END:VEVENT
END:VCALENDAR