BEGIN:VCALENDAR
METHOD:PUBLISH
X-WR-TIMEZONE:America/Denver
PRODID:-//Hold My Ticket.//HMT Web App//EN
CALSCALE:GREGORIAN
METHOD:PUBLISH
X-WR-CALNAME:Spring River Zoo
X-WR-CALDESC:Upcoming events at Spring River Zoo
BEGIN:VTIMEZONE
TZID:America/Denver 
END:VTIMEZONE
BEGIN:VEVENT
SEQUENCE:2
TRANSP:OPAQUE
UID:ae0962111a1348dc82a3bca28f4b9d46
DTSTART:20220430T170000
DTSTAMP:20220430T120111Z
SUMMARY:Brew at the Zoo
DESCRIPTION:ENJOY COLD CRAFT BEER FROM LOCAL BREWERIES &amp; DISTRIBUTORS, WINE, DELICIOUS FOOD, LIVE MUSIC, GAMES &amp;  ART AUCTION 
CREATED:20220430T120111Z
URL;VALUE=URI:http://holdmyticket.com/event/389461 

DTEND:20220430T210000
END:VEVENT
END:VCALENDAR