BEGIN:VCALENDAR
METHOD:PUBLISH
X-WR-TIMEZONE:America/Denver
PRODID:-//Hold My Ticket.//HMT Web App//EN
CALSCALE:GREGORIAN
METHOD:PUBLISH
X-WR-CALNAME:The Oriental Theater
X-WR-CALDESC:Upcoming events at The Oriental Theater
BEGIN:VTIMEZONE
TZID:America/Denver 
END:VTIMEZONE
BEGIN:VEVENT
SEQUENCE:2
TRANSP:OPAQUE
UID:f6af5bfb270c8332a4f690d7a94e7756
DTSTART:20220610T200000
DTSTAMP:20220610T150120Z
SUMMARY:Max &amp; Iggor Cavalera Return: Beneath Arise
DESCRIPTION:
CREATED:20220610T150120Z
URL;VALUE=URI:http://holdmyticket.com/event/390934 

DTEND:20220610T230000
END:VEVENT
END:VCALENDAR