BEGIN:VCALENDAR
METHOD:PUBLISH
X-WR-TIMEZONE:America/Los_Angeles
PRODID:-//Hold My Ticket.//HMT Web App//EN
CALSCALE:GREGORIAN
METHOD:PUBLISH
X-WR-CALNAME:Winstons
X-WR-CALDESC:Upcoming events at Winstons
BEGIN:VTIMEZONE
TZID:America/Los_Angeles 
END:VTIMEZONE
BEGIN:VEVENT
SEQUENCE:2
TRANSP:OPAQUE
UID:e3f47f5170aaea19cac13be1cb11b1bb
DTSTART:20220407T210000
DTSTAMP:20220407T213350Z
SUMMARY:KILLER WHALE with 
DESCRIPTION:
CREATED:20220407T213350Z
URL;VALUE=URI:http://holdmyticket.com/event/391017 

DTEND:20220408T000000
END:VEVENT
END:VCALENDAR