BEGIN:VCALENDAR
METHOD:PUBLISH
X-WR-TIMEZONE:America/Denver
PRODID:-//Hold My Ticket.//HMT Web App//EN
CALSCALE:GREGORIAN
METHOD:PUBLISH
X-WR-CALNAME:Tablao Flamenco Albuquerque at Hotel Albuquerque
X-WR-CALDESC:Upcoming events at Tablao Flamenco Albuquerque at Hotel Albuquerque
BEGIN:VTIMEZONE
TZID:America/Denver 
END:VTIMEZONE
BEGIN:VEVENT
SEQUENCE:2
TRANSP:OPAQUE
UID:39ec5dbab3d82a150a130e394a7c0a4a
DTSTART:20220616T230000
DTSTAMP:20220616T180126Z
SUMMARY:Festival Flamenco Alburquerque Tablao Edición Especial #2
DESCRIPTION:Experience the energy of flamenco with unforgettable performances by Festival Flamenco Alburquerque guest artists! 

PLEASE NOTE - TABLAO TICKETS ARE NON-REFUNDABLE

CREATED:20220616T180126Z
URL;VALUE=URI:http://holdmyticket.com/event/391077 

DTEND:20220616T234500
END:VEVENT
END:VCALENDAR