BEGIN:VCALENDAR
METHOD:PUBLISH
X-WR-TIMEZONE:America/Denver
PRODID:-//Hold My Ticket.//HMT Web App//EN
CALSCALE:GREGORIAN
METHOD:PUBLISH
X-WR-CALNAME:The Oriental Theater
X-WR-CALDESC:Upcoming events at The Oriental Theater
BEGIN:VTIMEZONE
TZID:America/Denver 
END:VTIMEZONE
BEGIN:VEVENT
SEQUENCE:2
TRANSP:OPAQUE
UID:a40c8c3f7bb81895f276f25969d62440
DTSTART:20220505T180000
DTSTAMP:20220505T130104Z
SUMMARY:The Convalescene &amp; Necronomicon 
DESCRIPTION:
CREATED:20220505T130104Z
URL;VALUE=URI:http://holdmyticket.com/event/391438 

DTEND:20220505T224500
END:VEVENT
END:VCALENDAR