BEGIN:VCALENDAR
METHOD:PUBLISH
X-WR-TIMEZONE:America/Denver
PRODID:-//Hold My Ticket.//HMT Web App//EN
CALSCALE:GREGORIAN
METHOD:PUBLISH
X-WR-CALNAME:Santa Fe Opera
X-WR-CALDESC:Upcoming events at Santa Fe Opera
BEGIN:VTIMEZONE
TZID:America/Denver 
END:VTIMEZONE
BEGIN:VEVENT
SEQUENCE:2
TRANSP:OPAQUE
UID:8e42ac3b1e40e518e6d815170c2bf493
DTSTART:20221002T193000
DTSTAMP:20221002T150135Z
SUMMARY:Khruangbin 
DESCRIPTION:Khruangbin is a three-piece band from Houston, Texas, formed in 2009 with Laura Lee on bass, Mark Speer on guitar and Donald Johnson on drums. Taking influence from 1960's Thai funk--their name literally translates to "Engine Fly" in Thai--Khruangbin is steeped in the bass-heavy, psychedelic sound of their inspiration, Tarantino soundtracks and surf-rock cool. Genesis Owusu will open the show.
CREATED:20221002T150135Z
URL;VALUE=URI:http://holdmyticket.com/event/391492 

DTEND:20221002T220000
END:VEVENT
END:VCALENDAR