BEGIN:VCALENDAR
METHOD:PUBLISH
X-WR-TIMEZONE:America/Denver
PRODID:-//Hold My Ticket.//HMT Web App//EN
CALSCALE:GREGORIAN
METHOD:PUBLISH
X-WR-CALNAME:Alamosa Park
X-WR-CALDESC:Upcoming events at Alamosa Park
BEGIN:VTIMEZONE
TZID:America/Denver 
END:VTIMEZONE
BEGIN:VEVENT
SEQUENCE:2
TRANSP:OPAQUE
UID:33587c4d32240eab9b93b5faa720e5b4
DTSTART:20220716T090000
DTSTAMP:20220716T040132Z
SUMMARY:Neighborhood Nature Festival
DESCRIPTION:Lara Manzanares is an award-winning bilingual singer-songwriter of Northern New Mexican heritage. In addition to singing the Mexican boleros, rancheras, and corridos of her sheep-ranching childhood, Lara also composes her own style of music in both English and Spanish. Through a combination of storytelling and songs both playful and sincere, Lara draws on her rural New Mexican roots and her urban experiences across the U.S. and abroad as she sings about love, loss, a sense of place, and her own connection to the land.
CREATED:20220716T040132Z
URL;VALUE=URI:http://holdmyticket.com/event/393394 

DTEND:20220716T120000
END:VEVENT
END:VCALENDAR