BEGIN:VCALENDAR
METHOD:PUBLISH
X-WR-TIMEZONE:America/Denver
PRODID:-//Hold My Ticket.//HMT Web App//EN
CALSCALE:GREGORIAN
METHOD:PUBLISH
X-WR-CALNAME:Phil Chacon Park
X-WR-CALDESC:Upcoming events at Phil Chacon Park
BEGIN:VTIMEZONE
TZID:America/Denver 
END:VTIMEZONE
BEGIN:VEVENT
SEQUENCE:2
TRANSP:OPAQUE
UID:b313e7f473e22e4d2d7d4cb540460182
DTSTART:20220618T090000
DTSTAMP:20220618T040142Z
SUMMARY:Neighborhood Nature Festival
DESCRIPTION:Come celebrate nature right in your neighborhood with free pop-up events! We'll have live music, bilingual nature storytelling and puppet show, nature-themed carnivale performers, bosque ecosystem traveling exhibit truck, hands-on science activities, nature-based games, show and tell with urban wild animals, Esperanza bike repair clinic, food trucks, on-site language interpreters, and more!
CREATED:20220618T040142Z
URL;VALUE=URI:http://holdmyticket.com/event/393447 

DTEND:20220618T120000
END:VEVENT
END:VCALENDAR