BEGIN:VCALENDAR
METHOD:PUBLISH
X-WR-TIMEZONE:America/Denver
PRODID:-//Hold My Ticket.//HMT Web App//EN
CALSCALE:GREGORIAN
METHOD:PUBLISH
X-WR-CALNAME:Alamosa Park
X-WR-CALDESC:Upcoming events at Alamosa Park
BEGIN:VTIMEZONE
TZID:America/Denver 
END:VTIMEZONE
BEGIN:VEVENT
SEQUENCE:2
TRANSP:OPAQUE
UID:854c3138a7e6a9f02a4b6e03501f9781
DTSTART:20220521T090000
DTSTAMP:20220521T040122Z
SUMMARY:Neighborhood Nature Festival
DESCRIPTION:The New Mexican Marimba Band performs on an authentic Mexican Marimba featuring the music of Steve Chavez, who is a teacher, screenwriter, composer/arranger, and collector of 38 Marimbas from around the world. Steve was a member of the NM Symphony, Chamber Orchestra of Albuquerque and Santa Fe Pro Musica. He has composed/arranged nine Concerti for Marimba and Orchestra and over 70 works for Marimbas, Steel-Drums, Latin-Jazz, pop, country, and religious.
CREATED:20220521T040122Z
URL;VALUE=URI:http://holdmyticket.com/event/393452 

DTEND:20220521T120000
END:VEVENT
END:VCALENDAR