BEGIN:VCALENDAR
METHOD:PUBLISH
X-WR-TIMEZONE:America/New_York
PRODID:-//Hold My Ticket.//HMT Web App//EN
CALSCALE:GREGORIAN
METHOD:PUBLISH
X-WR-CALNAME:Thirsty Cowboy
X-WR-CALDESC:Upcoming events at Thirsty Cowboy
BEGIN:VTIMEZONE
TZID:America/New_York 
END:VTIMEZONE
BEGIN:VEVENT
SEQUENCE:2
TRANSP:OPAQUE
UID:a434470780d8773fe11bccc2a8f0326a
DTSTART:20220526T193000
DTSTAMP:20220526T150140Z
SUMMARY:WALKER HAYES
DESCRIPTION:
CREATED:20220526T150140Z
URL;VALUE=URI:http://holdmyticket.com/event/393933 

DTEND:20220527T013000
END:VEVENT
END:VCALENDAR