BEGIN:VCALENDAR
METHOD:PUBLISH
X-WR-TIMEZONE:America/Denver
PRODID:-//Hold My Ticket.//HMT Web App//EN
CALSCALE:GREGORIAN
METHOD:PUBLISH
X-WR-CALNAME:FUSION | Meadow
X-WR-CALDESC:Upcoming events at FUSION | Meadow
BEGIN:VTIMEZONE
TZID:America/Denver 
END:VTIMEZONE
BEGIN:VEVENT
SEQUENCE:2
TRANSP:OPAQUE
UID:cbb89cdf3ff28fc7dace1d96bb9e230d
DTSTART:20220710T170000
DTSTAMP:20220710T120149Z
SUMMARY:Kombilesa Mí
DESCRIPTION:AMP Concerts presents the inaugural World Music Week presented around the Santa Fe International Folk Art Market. World Music Week kicks off with the beloved Market Artist welcome on the Santa Fe Plaza on July 5. Enjoy great international and local artists throughout the week, including a chance to see Kombilesa Mi at the very first Night Market on July 9.  
CREATED:20220710T120149Z
URL;VALUE=URI:http://holdmyticket.com/event/393982 

DTEND:20220710T200000
END:VEVENT
END:VCALENDAR