BEGIN:VCALENDAR
METHOD:PUBLISH
X-WR-TIMEZONE:America/Denver
PRODID:-//Hold My Ticket.//HMT Web App//EN
CALSCALE:GREGORIAN
METHOD:PUBLISH
X-WR-CALNAME:Tumbleroot Brewery & Distillery
X-WR-CALDESC:Upcoming events at Tumbleroot Brewery & Distillery
BEGIN:VTIMEZONE
TZID:America/Denver 
END:VTIMEZONE
BEGIN:VEVENT
SEQUENCE:2
TRANSP:OPAQUE
UID:758042271ab41a3db7c6ff92dadb162e
DTSTART:20221018T193000
DTSTAMP:20221018T173336Z
SUMMARY:Shovels &amp; Rope - SOLD OUT  
DESCRIPTION:This year marks ten years since Cary Ann Hearst and Michael Trent released their debut album O' Be Joyful, the first formally billed as Shovels &amp; Rope. That decade included the release of six full-length albums, three collaborative covers albums (Busted Jukebox Volumes 1-3), a curated music festival in their hometown of Charleston, SC (High Water), a musical film (Shovels &amp; Rope: The Movie) and countless dynamic live performances all over the planet. But it was in the rear courtyard suite of the Decatur St. house belonging to the Preservation Hall Jazz Band in New Orleans where Michael and Cary Ann began polishing up the songs that became their latest album, Manticore.
CREATED:20221018T173336Z
URL;VALUE=URI:http://holdmyticket.com/event/394896 

DTEND:20221018T230000
END:VEVENT
END:VCALENDAR