BEGIN:VCALENDAR
METHOD:PUBLISH
X-WR-TIMEZONE:America/Denver
PRODID:-//Hold My Ticket.//HMT Web App//EN
CALSCALE:GREGORIAN
METHOD:PUBLISH
X-WR-CALNAME:Santa Fe Plaza
X-WR-CALDESC:Upcoming events at Santa Fe Plaza
BEGIN:VTIMEZONE
TZID:America/Denver 
END:VTIMEZONE
BEGIN:VEVENT
SEQUENCE:2
TRANSP:OPAQUE
UID:83b5a08003f7688f75a4b57742b928dd
DTSTART:20220619T170000
DTSTAMP:20220619T120126Z
SUMMARY:Love and Happiness / 2nd Annual Juneteenth Celebration
DESCRIPTION:Love &amp; Happiness is one of Santa Fe's most beloved community dance parties. Soul, Funk, and Motown originals and modern remixes for you to get your dance on. Raashan Ahmad is an emcee, producer, DJ and label owner with a thriving career as a Hip Hop artist. He has garnered national &amp; international critical acclaim from worldwide press such as XXL, Giles Peterson's World Wide Awards, France 24, Urb, and Rolling Stone.
CREATED:20220619T120126Z
URL;VALUE=URI:http://holdmyticket.com/event/394932 

DTEND:20220619T200000
END:VEVENT
END:VCALENDAR