BEGIN:VCALENDAR
METHOD:PUBLISH
X-WR-TIMEZONE:America/Los_Angeles
PRODID:-//Hold My Ticket.//HMT Web App//EN
CALSCALE:GREGORIAN
METHOD:PUBLISH
X-WR-CALNAME:Dante's
X-WR-CALDESC:Upcoming events at Dante's
BEGIN:VTIMEZONE
TZID:America/Los_Angeles 
END:VTIMEZONE
BEGIN:VEVENT
SEQUENCE:2
TRANSP:OPAQUE
UID:0ddb2dc94169e4cdf7c3d5878c403c50
DTSTART:20220702T193000
DTSTAMP:20220702T150150Z
SUMMARY:HEAVY HEAVY LOW LOW,
DESCRIPTION:21+ / $20 ADV - $25 DOS - 7PM DOORS
CREATED:20220702T150150Z
URL;VALUE=URI:http://holdmyticket.com/event/394989 

DTEND:20220702T234500
END:VEVENT
END:VCALENDAR